BEGIN:VCALENDAR
VERSION:2.0
PRODID:-//Nepali Calendar//EN
BEGIN:VEVENT
UID:84c3f94471cf5de05f3d90957993c485@nepalicalendar.com
DTSTAMP:20260422T093015Z
DTSTART;VALUE=DATE:20250113
DTEND;VALUE=DATE:20250114
SUMMARY:श्री स्वस्थानी व्रत कथा प्रारम्भ
DESCRIPTION:श्री स्वस्थानी व्रत कथा प्रारम्भ
END:VEVENT
END:VCALENDAR