BEGIN:VCALENDAR
VERSION:2.0
PRODID:-//Nepali Calendar//EN
BEGIN:VEVENT
UID:a955d992848330c4bf2fd0112b303b48@nepalicalendar.com
DTSTAMP:20260421T231810Z
DTSTART;VALUE=DATE:20250710
DTEND;VALUE=DATE:20250711
SUMMARY:व्यास जयन्ती
DESCRIPTION:व्यास जयन्ती
END:VEVENT
END:VCALENDAR