BEGIN:VCALENDAR
VERSION:2.0
PRODID:-//Nepali Calendar//EN
BEGIN:VEVENT
UID:b3088e465cf504a395e6a9f77585199e@nepalicalendar.com
DTSTAMP:20260422T093054Z
DTSTART;VALUE=DATE:20250111
DTEND;VALUE=DATE:20250112
SUMMARY:राष्ट्रिय एकता दिवस
DESCRIPTION:राष्ट्रिय एकता दिवस
END:VEVENT
END:VCALENDAR