BEGIN:VCALENDAR
VERSION:2.0
PRODID:-//Nepali Calendar//EN
BEGIN:VEVENT
UID:80deeedb45555574dfc32ed57369699f@nepalicalendar.com
DTSTAMP:20260422T092558Z
DTSTART;VALUE=DATE:20250111
DTEND;VALUE=DATE:20250112
SUMMARY:पृथ्वी जयन्ती
DESCRIPTION:पृथ्वी जयन्ती
END:VEVENT
END:VCALENDAR