BEGIN:VCALENDAR
VERSION:2.0
PRODID:-//Nepali Calendar//EN
BEGIN:VEVENT
UID:8445f2726c826c858ff9fa61eeb43a4c@nepalicalendar.com
DTSTAMP:20260422T093015Z
DTSTART;VALUE=DATE:20250110
DTEND;VALUE=DATE:20250111
SUMMARY:पुत्रदा एकादशी व्रत
DESCRIPTION:पुत्रदा एकादशी व्रत
END:VEVENT
END:VCALENDAR