BEGIN:VCALENDAR
VERSION:2.0
PRODID:-//Nepali Calendar//EN
BEGIN:VEVENT
UID:f6a9270f82619d5527f1b1cdaf528b35@nepalicalendar.com
DTSTAMP:20260422T092843Z
DTSTART;VALUE=DATE:20250108
DTEND;VALUE=DATE:20250109
SUMMARY:नेपाल ज्योतिष परिषद स्थापना दिवस
DESCRIPTION:नेपाल ज्योतिष परिषद स्थापना दिवस
END:VEVENT
END:VCALENDAR