BEGIN:VCALENDAR
VERSION:2.0
PRODID:-//Nepali Calendar//EN
BEGIN:VEVENT
UID:da47d38dca0aaf0e0ead54d89a644250@nepalicalendar.com
DTSTAMP:20260422T093402Z
DTSTART;VALUE=DATE:20250107
DTEND;VALUE=DATE:20250108
SUMMARY:गोरखकाली पूजा
DESCRIPTION:गोरखकाली पूजा
END:VEVENT
END:VCALENDAR