BEGIN:VCALENDAR
VERSION:2.0
PRODID:-//Nepali Calendar//EN
BEGIN:VEVENT
UID:52e9bdf9dfdc6c8e3c0cd2689ff00f67@nepalicalendar.com
DTSTAMP:20260422T092652Z
DTSTART;VALUE=DATE:20250107
DTEND;VALUE=DATE:20250108
SUMMARY:भाैमाष्टमी व्रत
DESCRIPTION:भाैमाष्टमी व्रत
END:VEVENT
END:VCALENDAR