BEGIN:VCALENDAR
VERSION:2.0
PRODID:-//Nepali Calendar//EN
BEGIN:VEVENT
UID:b43557347c0b513fad5fc44d7854d7aa@nepalicalendar.com
DTSTAMP:20260422T092849Z
DTSTART;VALUE=DATE:20250105
DTEND;VALUE=DATE:20250106
SUMMARY:गुरु गोबिन्द सिंह जयन्ती
DESCRIPTION:गुरु गोबिन्द सिंह जयन्ती
END:VEVENT
END:VCALENDAR