BEGIN:VCALENDAR
VERSION:2.0
PRODID:-//Nepali Calendar//EN
BEGIN:VEVENT
UID:e0fac161237cd5be66f8a760c61df857@nepalicalendar.com
DTSTAMP:20260422T092705Z
DTSTART;VALUE=DATE:20250101
DTEND;VALUE=DATE:20250102
SUMMARY:पोशाक दिवस
DESCRIPTION:पोशाक दिवस
END:VEVENT
END:VCALENDAR