BEGIN:VCALENDAR
VERSION:2.0
PRODID:-//Nepali Calendar//EN
BEGIN:VEVENT
UID:a932b0e1c99fd626b5c6dde2ff6a9df0@nepalicalendar.com
DTSTAMP:20260422T092706Z
DTSTART;VALUE=DATE:20250101
DTEND;VALUE=DATE:20250102
SUMMARY:टोपी दिवस
DESCRIPTION:टोपी दिवस
END:VEVENT
END:VCALENDAR