BEGIN:VCALENDAR
VERSION:2.0
PRODID:-//Nepali Calendar//EN
BEGIN:VEVENT
UID:323f7ecc4712352cf5c047d5f93105d7@nepalicalendar.com
DTSTAMP:20260421T231625Z
DTSTART;VALUE=DATE:20250710
DTEND;VALUE=DATE:20250711
SUMMARY:पूर्णिमा व्रत
DESCRIPTION:पूर्णिमा व्रत
END:VEVENT
END:VCALENDAR