BEGIN:VCALENDAR
VERSION:2.0
PRODID:-//Nepali Calendar//EN
BEGIN:VEVENT
UID:91013ca847f790a96c3d680331cb9676@nepalicalendar.com
DTSTAMP:20260422T092848Z
DTSTART;VALUE=DATE:20250101
DTEND;VALUE=DATE:20250102
SUMMARY:नयाँ वर्ष २०२५
DESCRIPTION:नयाँ वर्ष २०२५
END:VEVENT
END:VCALENDAR