BEGIN:VCALENDAR
VERSION:2.0
PRODID:-//Nepali Calendar//EN
BEGIN:VEVENT
UID:1592ba4b4b7debcb1e41b4f9e3b41905@nepalicalendar.com
DTSTAMP:20260422T093127Z
DTSTART;VALUE=DATE:20241231
DTEND;VALUE=DATE:20250101
SUMMARY:तोल ल्होसार
DESCRIPTION:तोल ल्होसार
END:VEVENT
END:VCALENDAR