BEGIN:VCALENDAR
VERSION:2.0
PRODID:-//Nepali Calendar//EN
BEGIN:VEVENT
UID:02f1dd0c7c0314d4b0e1c0b81e12923f@nepalicalendar.com
DTSTAMP:20260422T092751Z
DTSTART;VALUE=DATE:20241230
DTEND;VALUE=DATE:20241231
SUMMARY:कवि शिरोमणि लेखनाथ जयन्ती
DESCRIPTION:कवि शिरोमणि लेखनाथ जयन्ती
END:VEVENT
END:VCALENDAR