BEGIN:VCALENDAR
VERSION:2.0
PRODID:-//Nepali Calendar//EN
BEGIN:VEVENT
UID:2162c7c694e8b54eebafad515fd48642@nepalicalendar.com
DTSTAMP:20260422T092711Z
DTSTART;VALUE=DATE:20241230
DTEND;VALUE=DATE:20241231
SUMMARY:सोमबारे औंसी
DESCRIPTION:सोमबारे औंसी
END:VEVENT
END:VCALENDAR