BEGIN:VCALENDAR
VERSION:2.0
PRODID:-//Nepali Calendar//EN
BEGIN:VEVENT
UID:a8d13b3a02e2b94bbb4a9e1fbc0493aa@nepalicalendar.com
DTSTAMP:20260422T093306Z
DTSTART;VALUE=DATE:20241230
DTEND;VALUE=DATE:20241231
SUMMARY:तमु ल्होसार
DESCRIPTION:तमु ल्होसार
END:VEVENT
END:VCALENDAR