BEGIN:VCALENDAR
VERSION:2.0
PRODID:-//Nepali Calendar//EN
BEGIN:VEVENT
UID:65ab890a634ab9daa068023aa720adb2@nepalicalendar.com
DTSTAMP:20260422T093237Z
DTSTART;VALUE=DATE:20241228
DTEND;VALUE=DATE:20241229
SUMMARY:शनि प्रदोष व्रत
DESCRIPTION:शनि प्रदोष व्रत
END:VEVENT
END:VCALENDAR