BEGIN:VCALENDAR
VERSION:2.0
PRODID:-//Nepali Calendar//EN
BEGIN:VEVENT
UID:3bd02cc39f6a568daa2cea35b635bfd1@nepalicalendar.com
DTSTAMP:20260422T093328Z
DTSTART;VALUE=DATE:20241226
DTEND;VALUE=DATE:20241227
SUMMARY:सफला एकादशी व्रत
DESCRIPTION:सफला एकादशी व्रत
END:VEVENT
END:VCALENDAR