BEGIN:VCALENDAR
VERSION:2.0
PRODID:-//Nepali Calendar//EN
BEGIN:VEVENT
UID:5715faf18f00aa43d675d2cf98780263@nepalicalendar.com
DTSTAMP:20260422T092652Z
DTSTART;VALUE=DATE:20241225
DTEND;VALUE=DATE:20241226
SUMMARY:क्रिसमस-डे
DESCRIPTION:क्रिसमस-डे
END:VEVENT
END:VCALENDAR