BEGIN:VCALENDAR
VERSION:2.0
PRODID:-//Nepali Calendar//EN
BEGIN:VEVENT
UID:02c6272a304d3d5285ea3a4c80a76f7a@nepalicalendar.com
DTSTAMP:20260422T092935Z
DTSTART;VALUE=DATE:20241223
DTEND;VALUE=DATE:20241224
SUMMARY:गोरखकाली पूजा
DESCRIPTION:गोरखकाली पूजा
END:VEVENT
END:VCALENDAR