BEGIN:VCALENDAR
VERSION:2.0
PRODID:-//Nepali Calendar//EN
BEGIN:VEVENT
UID:27a4c2a582a2d1119bce0d14e44b1124@nepalicalendar.com
DTSTAMP:20260422T093200Z
DTSTART;VALUE=DATE:20241222
DTEND;VALUE=DATE:20241223
SUMMARY:रविसप्तमी व्रत
DESCRIPTION:रविसप्तमी व्रत
END:VEVENT
END:VCALENDAR