BEGIN:VCALENDAR
VERSION:2.0
PRODID:-//Nepali Calendar//EN
BEGIN:VEVENT
UID:f16f23c6af1a066a781bff7e8a256b32@nepalicalendar.com
DTSTAMP:20260421T231758Z
DTSTART;VALUE=DATE:20250710
DTEND;VALUE=DATE:20250711
SUMMARY:गुरु पुर्णिमा व्रत
DESCRIPTION:गुरु पुर्णिमा व्रत
END:VEVENT
END:VCALENDAR