BEGIN:VCALENDAR
VERSION:2.0
PRODID:-//Nepali Calendar//EN
BEGIN:VEVENT
UID:152772a76533729f629174bf2be1bfac@nepalicalendar.com
DTSTAMP:20260422T092751Z
DTSTART;VALUE=DATE:20241221
DTEND;VALUE=DATE:20241222
SUMMARY:विश्व ध्यान दिवस
DESCRIPTION:विश्व ध्यान दिवस
END:VEVENT
END:VCALENDAR