BEGIN:VCALENDAR
VERSION:2.0
PRODID:-//Nepali Calendar//EN
BEGIN:VEVENT
UID:aa6836d03f378ffb019516caca914b5f@nepalicalendar.com
DTSTAMP:20260422T093031Z
DTSTART;VALUE=DATE:20241218
DTEND;VALUE=DATE:20241219
SUMMARY:अन्तर्राष्ट्रिय आप्रवासी दिवस
DESCRIPTION:अन्तर्राष्ट्रिय आप्रवासी दिवस
END:VEVENT
END:VCALENDAR