BEGIN:VCALENDAR
VERSION:2.0
PRODID:-//Nepali Calendar//EN
BEGIN:VEVENT
UID:84fd1438e95dd80d8beba2775cb2d137@nepalicalendar.com
DTSTAMP:20260422T092842Z
DTSTART;VALUE=DATE:20241216
DTEND;VALUE=DATE:20241217
SUMMARY:धनु संक्रान्ति
DESCRIPTION:धनु संक्रान्ति
END:VEVENT
END:VCALENDAR