BEGIN:VCALENDAR
VERSION:2.0
PRODID:-//Nepali Calendar//EN
BEGIN:VEVENT
UID:012f69e4d58bdc7d0805adfed0f0831f@nepalicalendar.com
DTSTAMP:20260422T123721Z
DTSTART;VALUE=DATE:20241215
DTEND;VALUE=DATE:20241216
SUMMARY:गढीमाई मेला समाप्ती
DESCRIPTION:गढीमाई मेला समाप्ती
END:VEVENT
END:VCALENDAR