BEGIN:VCALENDAR
VERSION:2.0
PRODID:-//Nepali Calendar//EN
BEGIN:VEVENT
UID:ced5d0e2402d65e7cf75930f6c133d9b@nepalicalendar.com
DTSTAMP:20260422T123637Z
DTSTART;VALUE=DATE:20241215
DTEND;VALUE=DATE:20241216
SUMMARY:ज्यापु दिवस
DESCRIPTION:ज्यापु दिवस
END:VEVENT
END:VCALENDAR