BEGIN:VCALENDAR
VERSION:2.0
PRODID:-//Nepali Calendar//EN
BEGIN:VEVENT
UID:852019d3342bcf3adb4a3525d13af879@nepalicalendar.com
DTSTAMP:20260422T110002Z
DTSTART;VALUE=DATE:20241215
DTEND;VALUE=DATE:20241216
SUMMARY:य:मरि पुन्हि
DESCRIPTION:य:मरि पुन्हि
END:VEVENT
END:VCALENDAR