BEGIN:VCALENDAR
VERSION:2.0
PRODID:-//Nepali Calendar//EN
BEGIN:VEVENT
UID:0de6940b98b71263012cd471ce4bc9b5@nepalicalendar.com
DTSTAMP:20260422T105408Z
DTSTART;VALUE=DATE:20241215
DTEND;VALUE=DATE:20241216
SUMMARY:धान्यपुर्णिमा
DESCRIPTION:धान्यपुर्णिमा
END:VEVENT
END:VCALENDAR