BEGIN:VCALENDAR
VERSION:2.0
PRODID:-//Nepali Calendar//EN
BEGIN:VEVENT
UID:f5385a3fc58dd15f50432c34813c9935@nepalicalendar.com
DTSTAMP:20260422T105709Z
DTSTART;VALUE=DATE:20241215
DTEND;VALUE=DATE:20241216
SUMMARY:उधौली पर्व
DESCRIPTION:उधौली पर्व
END:VEVENT
END:VCALENDAR