BEGIN:VCALENDAR
VERSION:2.0
PRODID:-//Nepali Calendar//EN
BEGIN:VEVENT
UID:962e930a4cf007081b80e6dd47cb7b68@nepalicalendar.com
DTSTAMP:20260422T105830Z
DTSTART;VALUE=DATE:20241214
DTEND;VALUE=DATE:20241215
SUMMARY:दत्तात्रेय जयन्ती
DESCRIPTION:दत्तात्रेय जयन्ती
END:VEVENT
END:VCALENDAR