BEGIN:VCALENDAR
VERSION:2.0
PRODID:-//Nepali Calendar//EN
BEGIN:VEVENT
UID:6cd3161cd73eec9bc066ec47d538aead@nepalicalendar.com
DTSTAMP:20260421T231758Z
DTSTART;VALUE=DATE:20250708
DTEND;VALUE=DATE:20250709
SUMMARY:प्रदोष व्रत
DESCRIPTION:प्रदोष व्रत
END:VEVENT
END:VCALENDAR