BEGIN:VCALENDAR
VERSION:2.0
PRODID:-//Nepali Calendar//EN
BEGIN:VEVENT
UID:f8398b66f900c2ef4dc2fc90948cb159@nepalicalendar.com
DTSTAMP:20260422T105508Z
DTSTART;VALUE=DATE:20241213
DTEND;VALUE=DATE:20241214
SUMMARY:प्रदोष व्रत
DESCRIPTION:प्रदोष व्रत
END:VEVENT
END:VCALENDAR