BEGIN:VCALENDAR
VERSION:2.0
PRODID:-//Nepali Calendar//EN
BEGIN:VEVENT
UID:5f3e20746b119379ab04378dbf5f98e5@nepalicalendar.com
DTSTAMP:20260422T105941Z
DTSTART;VALUE=DATE:20241212
DTEND;VALUE=DATE:20241213
SUMMARY:अन्तर्राष्ट्रिय तटस्थ दिवस
DESCRIPTION:अन्तर्राष्ट्रिय तटस्थ दिवस
END:VEVENT
END:VCALENDAR