BEGIN:VCALENDAR
VERSION:2.0
PRODID:-//Nepali Calendar//EN
BEGIN:VEVENT
UID:8c3c464b3487e91cd2c6e172b217e44d@nepalicalendar.com
DTSTAMP:20260422T140534Z
DTSTART;VALUE=DATE:20241115
DTEND;VALUE=DATE:20241116
SUMMARY:कार्तिक स्नान समाप्ति
DESCRIPTION:कार्तिक स्नान समाप्ति
END:VEVENT
END:VCALENDAR