BEGIN:VCALENDAR
VERSION:2.0
PRODID:-//Nepali Calendar//EN
BEGIN:VEVENT
UID:d5e0b91bcf4f120992cccb63070c02a4@nepalicalendar.com
DTSTAMP:20260422T123457Z
DTSTART;VALUE=DATE:20241115
DTEND;VALUE=DATE:20241116
SUMMARY:चतुर्मास व्रत समाप्ति
DESCRIPTION:चतुर्मास व्रत समाप्ति
END:VEVENT
END:VCALENDAR