BEGIN:VCALENDAR
VERSION:2.0
PRODID:-//Nepali Calendar//EN
BEGIN:VEVENT
UID:4ece3c4aa28168ba16fa9bc7bb9d6003@nepalicalendar.com
DTSTAMP:20260422T123918Z
DTSTART;VALUE=DATE:20241115
DTEND;VALUE=DATE:20241116
SUMMARY:निम्बार्काचार्य जयन्ती
DESCRIPTION:निम्बार्काचार्य जयन्ती
END:VEVENT
END:VCALENDAR