BEGIN:VCALENDAR
VERSION:2.0
PRODID:-//Nepali Calendar//EN
BEGIN:VEVENT
UID:a9f99b4059cbb39308033808b80f5508@nepalicalendar.com
DTSTAMP:20260422T123722Z
DTSTART;VALUE=DATE:20241115
DTEND;VALUE=DATE:20241116
SUMMARY:गुरु नानक जयन्ती (सिख धर्मावलम्बीहरूलाई मात्र)
DESCRIPTION:गुरु नानक जयन्ती (सिख धर्मावलम्बीहरूलाई मात्र)
END:VEVENT
END:VCALENDAR