BEGIN:VCALENDAR
VERSION:2.0
PRODID:-//Nepali Calendar//EN
BEGIN:VEVENT
UID:618e999102996e457929d50fc641cdec@nepalicalendar.com
DTSTAMP:20260422T140427Z
DTSTART;VALUE=DATE:20241016
DTEND;VALUE=DATE:20241017
SUMMARY:विश्व खाद्य दिवस
DESCRIPTION:विश्व खाद्य दिवस
END:VEVENT
END:VCALENDAR