BEGIN:VCALENDAR
VERSION:2.0
PRODID:-//Nepali Calendar//EN
BEGIN:VEVENT
UID:680132929b31dc79cd1f43f075a124c4@nepalicalendar.com
DTSTAMP:20260422T140616Z
DTSTART;VALUE=DATE:20241016
DTEND;VALUE=DATE:20241017
SUMMARY:कोजाग्रत व्रत
DESCRIPTION:कोजाग्रत व्रत
END:VEVENT
END:VCALENDAR