BEGIN:VCALENDAR
VERSION:2.0
PRODID:-//Nepali Calendar//EN
BEGIN:VEVENT
UID:86de88f1b098e1152de9551efc567073@nepalicalendar.com
DTSTAMP:20260422T105809Z
DTSTART;VALUE=DATE:20241211
DTEND;VALUE=DATE:20241212
SUMMARY:गीता जयन्ती
DESCRIPTION:गीता जयन्ती
END:VEVENT
END:VCALENDAR