BEGIN:VCALENDAR
VERSION:2.0
PRODID:-//Nepali Calendar//EN
BEGIN:VEVENT
UID:9c351a01c5cce6a3f2a5107e7ef7a6d4@nepalicalendar.com
DTSTAMP:20260421T231512Z
DTSTART;VALUE=DATE:20250706
DTEND;VALUE=DATE:20250707
SUMMARY:चतुर्मास व्रत आरम्भ
DESCRIPTION:चतुर्मास व्रत आरम्भ
END:VEVENT
END:VCALENDAR