BEGIN:VCALENDAR
VERSION:2.0
PRODID:-//Nepali Calendar//EN
BEGIN:VEVENT
UID:f34c3a32b63fcc8395b58565af81fdd4@nepalicalendar.com
DTSTAMP:20260422T105820Z
DTSTART;VALUE=DATE:20241211
DTEND;VALUE=DATE:20241212
SUMMARY:मोक्षदा एकादशी
DESCRIPTION:मोक्षदा एकादशी
END:VEVENT
END:VCALENDAR