BEGIN:VCALENDAR
VERSION:2.0
PRODID:-//Nepali Calendar//EN
BEGIN:VEVENT
UID:9b93763ee652640d8db72fae07a0c572@nepalicalendar.com
DTSTAMP:20260422T105656Z
DTSTART;VALUE=DATE:20241211
DTEND;VALUE=DATE:20241212
SUMMARY:अन्तर्राष्ट्रिय पर्वत दिवस
DESCRIPTION:अन्तर्राष्ट्रिय पर्वत दिवस
END:VEVENT
END:VCALENDAR