BEGIN:VCALENDAR
VERSION:2.0
PRODID:-//Nepali Calendar//EN
BEGIN:VEVENT
UID:36e77b94beeac894e014bd4f487b31e2@nepalicalendar.com
DTSTAMP:20260422T140806Z
DTSTART;VALUE=DATE:20241015
DTEND;VALUE=DATE:20241016
SUMMARY:विश्व हातधुने दिवस
DESCRIPTION:विश्व हातधुने दिवस
END:VEVENT
END:VCALENDAR