BEGIN:VCALENDAR
VERSION:2.0
PRODID:-//Nepali Calendar//EN
BEGIN:VEVENT
UID:c24ebe042117200546b2573373e3be96@nepalicalendar.com
DTSTAMP:20260422T140913Z
DTSTART;VALUE=DATE:20241015
DTEND;VALUE=DATE:20241016
SUMMARY:अन्तर्राष्ट्रिय ग्रामीण महिला दिवस
DESCRIPTION:अन्तर्राष्ट्रिय ग्रामीण महिला दिवस
END:VEVENT
END:VCALENDAR