BEGIN:VCALENDAR
VERSION:2.0
PRODID:-//Nepali Calendar//EN
BEGIN:VEVENT
UID:c72fbe73031cd418364ddc7050fa2e8e@nepalicalendar.com
DTSTAMP:20260422T123619Z
DTSTART;VALUE=DATE:20241114
DTEND;VALUE=DATE:20241115
SUMMARY:सांस्कृतिक सम्पत्तिको अवैध ओसारपसार विरुद्धको अन्तर्राष्ट्रिय दिवस
DESCRIPTION:सांस्कृतिक सम्पत्तिको अवैध ओसारपसार विरुद्धको अन्तर्राष्ट्रिय दिवस
END:VEVENT
END:VCALENDAR