BEGIN:VCALENDAR
VERSION:2.0
PRODID:-//Nepali Calendar//EN
BEGIN:VEVENT
UID:b2f422977d0b89d32803d509be298664@nepalicalendar.com
DTSTAMP:20260422T123336Z
DTSTART;VALUE=DATE:20241114
DTEND;VALUE=DATE:20241115
SUMMARY:विश्व मधुमेह दिवस
DESCRIPTION:विश्व मधुमेह दिवस
END:VEVENT
END:VCALENDAR