BEGIN:VCALENDAR
VERSION:2.0
PRODID:-//Nepali Calendar//EN
BEGIN:VEVENT
UID:a97d7c7aebfa0e2bb97c88ee39735d65@nepalicalendar.com
DTSTAMP:20260422T123618Z
DTSTART;VALUE=DATE:20241114
DTEND;VALUE=DATE:20241115
SUMMARY:बैकुण्ठ चतुर्दशी व्रत
DESCRIPTION:बैकुण्ठ चतुर्दशी व्रत
END:VEVENT
END:VCALENDAR